BEGIN:VCALENDAR
VERSION:2.0
PRODID:-//Tukios.com/
BEGIN:VEVENT
UID:11f3ed15-789c-4285-95b9-d17707a56ed2@www.newcomercincinnati.com
DTSTAMP:20260421T090437Z
DTSTART:20260420T150000Z
DTEND:20260420T160000Z
SUMMARY:Visitation
DESCRIPTION:
URL:https://www.newcomercincinnati.com/obituaries/mc-roundtree
LOCATION:Newcomer Cremations, Funerals & Receptions - West Side Chapel 
	3300 Parkcrest Lane  Cincinnati OH 45211
GEO:39.1456594;-84.6223231
END:VEVENT
END:VCALENDAR