BEGIN:VCALENDAR
VERSION:2.0
PRODID:-//Tukios.com/
BEGIN:VEVENT
UID:a91fbb82-cdb9-4fdb-b326-3c23556aea5d@www.newcomercincinnati.com
DTSTAMP:20260421T172831Z
DTSTART:20260426T170000Z
DTEND:20260426T180000Z
SUMMARY:Visitation
DESCRIPTION:
URL:https://www.newcomercincinnati.com/obituaries/james-jimmy-olbert
LOCATION: 4350 Dixie Highway  Erlanger KY 41018
GEO:39.0088296;-84.6128751
END:VEVENT
END:VCALENDAR