BEGIN:VCALENDAR
VERSION:2.0
PRODID:-//Tukios.com/
BEGIN:VEVENT
UID:8098893b-fde2-4030-920e-f8604f3de64f@www.newcomercincinnati.com
DTSTAMP:20260421T173535Z
DTSTART:20260426T180000Z
DTEND:20260426T190000Z
SUMMARY:Memorial Service
DESCRIPTION:
URL:https://www.newcomercincinnati.com/obituaries/james-jimmy-olbert
LOCATION: 4350 Dixie Highway  Erlanger KY 41018
GEO:39.0088296;-84.6128751
END:VEVENT
END:VCALENDAR