BEGIN:VCALENDAR
VERSION:2.0
PRODID:-//Tukios.com/
BEGIN:VEVENT
UID:4ed03771-b067-4b6a-99c0-ba4b14185e48@www.newcomercincinnati.com
DTSTAMP:20260420T163515Z
DTSTART:20260505T200000Z
DTEND:20260505T220000Z
SUMMARY:Visitation
DESCRIPTION:
URL:https://www.newcomercincinnati.com/obituaries/grant-may
LOCATION:Newcomer Cremations, Funerals & Receptions – West Side Chapel 
	3300 Parkcrest Lane  Cincinnati OH 45211
GEO:39.1456594;-84.6223231
END:VEVENT
END:VCALENDAR