BEGIN:VCALENDAR
VERSION:2.0
PRODID:-//Tukios.com/
BEGIN:VEVENT
UID:9e6c66f6-4aab-4f96-ad47-090a2e1c3d50@www.newcomercincinnati.com
DTSTAMP:20260423T220946Z
DTSTART:20260501T170000Z
DTEND:20260501T180000Z
SUMMARY:Memorial Service
DESCRIPTION:
URL:https://www.newcomercincinnati.com/obituaries/gina-leek
LOCATION: 4350 Dixie Hwy  Erlanger KY 41018
GEO:39.0088296;-84.6128751
END:VEVENT
END:VCALENDAR