BEGIN:VCALENDAR
VERSION:2.0
PRODID:-//Tukios.com/
BEGIN:VEVENT
UID:44b8dd98-cebf-4b80-859a-cd959c76faf6@www.newcomercincinnati.com
DTSTAMP:20260423T220646Z
DTSTART:20260501T150000Z
DTEND:20260501T170000Z
SUMMARY:Visitation
DESCRIPTION:
URL:https://www.newcomercincinnati.com/obituaries/gina-leek
LOCATION: 4350 Dixie Hwy  Erlanger KY 41018
GEO:39.0088296;-84.6128751
END:VEVENT
END:VCALENDAR