BEGIN:VCALENDAR
VERSION:2.0
PRODID:-//Tukios.com/
BEGIN:VEVENT
UID:39fb6289-c981-45f9-9453-2a6399f2afef@www.newcomercincinnati.com
DTSTAMP:20260421T090706Z
DTSTART:20260415T140000Z
DTEND:20260415T160000Z
SUMMARY:Visitation
DESCRIPTION:
URL:https://www.newcomercincinnati.com/obituaries/david-roark-sr
LOCATION: 4350 Dixie Hwy  Erlanger KY 41018
GEO:39.0088296;-84.6128751
END:VEVENT
END:VCALENDAR