BEGIN:VCALENDAR
VERSION:2.0
PRODID:-//Tukios.com/
BEGIN:VEVENT
UID:a6ce43e4-4b0a-468a-93ba-840a8fbf15f4@www.newcomercincinnati.com
DTSTAMP:20260421T233555Z
DTSTART:20260424T153000Z
DTEND:20260424T163000Z
SUMMARY:Funeral Service
DESCRIPTION:
URL:https://www.newcomercincinnati.com/obituaries/betty-gillum
LOCATION: 11875 Taylor Mill Rd  Independence KY 41051
GEO:38.9095888;-84.5284445
END:VEVENT
END:VCALENDAR