BEGIN:VCALENDAR
VERSION:2.0
PRODID:-//Tukios.com/
BEGIN:VEVENT
UID:01c77603-1709-4bfb-af78-7fa044141614@www.newcomercincinnati.com
DTSTAMP:20260421T233305Z
DTSTART:20260424T133000Z
DTEND:20260424T153000Z
SUMMARY:Visitation
DESCRIPTION:
URL:https://www.newcomercincinnati.com/obituaries/betty-gillum
LOCATION: 11875 Taylor Mill Rd  Independence KY 41051
GEO:38.9095888;-84.5284445
END:VEVENT
END:VCALENDAR