BEGIN:VCALENDAR
VERSION:2.0
PRODID:-//Tukios.com/
BEGIN:VEVENT
UID:7f78dfe5-ae5f-41cb-86a1-5adfae7a3a5d@www.newcomercincinnati.com
DTSTAMP:20260424T210838Z
DTSTART:20260501T220000Z
DTEND:20260502T000000Z
SUMMARY:Visitation
DESCRIPTION:
URL:https://www.newcomercincinnati.com/obituaries/aaron-woods
LOCATION: 3300 Parkcrest Lane  Cincinnati OH 45211
GEO:39.1456594;-84.6223231
END:VEVENT
END:VCALENDAR